BEGIN:VCALENDAR
VERSION:2.0
PRODID:-//Plone.org//NONSGML plone.app.event//EN
X-WR-TIMEZONE:America/Sao_Paulo
BEGIN:VEVENT
SUMMARY:1º Simpósio de Geriatria e Gerontologia da UFVJM
DTSTART;VALUE=DATE:20240920
DTEND;VALUE=DATE:20240922
DTSTAMP;VALUE=DATE-TIME:20260423T020118Z
UID:57ed6dc4e3fc468393110beedc52e88c@portal.ufvjm.edu.br
CONTACT:https://www.even3.com.br/i-simposio-de-geriatria-e-gerontologia-da
 -ufvjm-464422/
CREATED;VALUE=DATE-TIME:20240702T173316Z
DESCRIPTION:20 e 21 de setembro
LAST-MODIFIED;VALUE=DATE-TIME:20240702T174108Z
LOCATION:Campus JK
URL:https://portal.ufvjm.edu.br/agendas/eventos/2024/1-simposio-de-geriatr
 ia-e-gerontologia-da-ufvjm
END:VEVENT
END:VCALENDAR
