BEGIN:VCALENDAR
VERSION:2.0
PRODID:-//Plone.org//NONSGML plone.app.event//EN
X-WR-TIMEZONE:America/Sao_Paulo
BEGIN:VEVENT
SUMMARY:1ª Festa Literária Vale do Mucuri
DTSTART;VALUE=DATE:20240919
DTEND;VALUE=DATE:20240923
DTSTAMP;VALUE=DATE-TIME:20260423T001046Z
UID:01a64545f3c74291914be5b994733991@portal.ufvjm.edu.br
CONTACT:https://www.instagram.com/incena.oficial/
CREATED;VALUE=DATE-TIME:20240919T124459Z
DESCRIPTION:19 a 22 de setembro
LAST-MODIFIED;VALUE=DATE-TIME:20240919T125943Z
LOCATION:Teófilo Otoni
URL:https://portal.ufvjm.edu.br/agendas/eventos/2024/1-festa-literaria-val
 e-do-mucuri
END:VEVENT
END:VCALENDAR
