BEGIN:VCALENDAR
VERSION:2.0
PRODID:-//Plone.org//NONSGML plone.app.event//EN
X-WR-TIMEZONE:America/Sao_Paulo
BEGIN:VEVENT
SUMMARY:1º Encontro Regional da Rede Mineira do Projeto Nacional de Letra
 mentos
DTSTART;VALUE=DATE:20240606
DTEND;VALUE=DATE:20240608
DTSTAMP;VALUE=DATE-TIME:20260423T020422Z
UID:bab3586f05774197bbb685215066cff8@portal.ufvjm.edu.br
CONTACT:https://docs.google.com/forms/d/e/1FAIpQLSc3Ctz54q_yguJXXAHmPfgSRr
 0V97LhXrD65z2w1zGcwpNCQA/viewform
CREATED;VALUE=DATE-TIME:20240605T201304Z
DESCRIPTION:6 e 7 de junho
LAST-MODIFIED;VALUE=DATE-TIME:20240605T204231Z
LOCATION:UFVJM e Superintendência Regional de Ensino de Diamantina
URL:https://portal.ufvjm.edu.br/agendas/eventos/2024/1-encontro-regional-d
 a-rede-mineira-do-projeto-nacional-de-letramentos
END:VEVENT
END:VCALENDAR
