BEGIN:VCALENDAR
VERSION:2.0
PRODID:-//Plone.org//NONSGML plone.app.event//EN
X-WR-TIMEZONE:America/Sao_Paulo
BEGIN:VEVENT
SUMMARY:1ª Conferência Municipal de Gestão do Trabalho e da Educação 
 na Saúde
DTSTART;TZID=America/Sao_Paulo;VALUE=DATE-TIME:20240628T080000
DTSTAMP;VALUE=DATE-TIME:20260423T171418Z
UID:daa214f2ff4a465db12c520d7741bef9@portal.ufvjm.edu.br
CREATED;VALUE=DATE-TIME:20240620T024433Z
DESCRIPTION:28 de junho
LAST-MODIFIED;VALUE=DATE-TIME:20240620T125617Z
LOCATION:Auditório da Superintendência Regional de Ensino (SRE) - Diaman
 tina
URL:https://portal.ufvjm.edu.br/agendas/eventos/2024/1-conferencia-municip
 al-de-gestao-do-trabalho-e-da-educacao-na-saude
END:VEVENT
BEGIN:VTIMEZONE
TZID:America/Sao_Paulo
X-LIC-LOCATION:America/Sao_Paulo
BEGIN:STANDARD
DTSTART;VALUE=DATE-TIME:20240217T230000
TZNAME:BRT
TZOFFSETFROM:-0200
TZOFFSETTO:-0300
END:STANDARD
END:VTIMEZONE
END:VCALENDAR
