BEGIN:VCALENDAR
VERSION:2.0
PRODID:-//Plone.org//NONSGML plone.app.event//EN
X-WR-TIMEZONE:America/Sao_Paulo
BEGIN:VEVENT
SUMMARY:1º Ciclo de Debates “60 Anos: golpe de 1964”
DTSTART;VALUE=DATE:20240402
DTEND;VALUE=DATE:20240404
DTSTAMP;VALUE=DATE-TIME:20260423T035344Z
UID:087e8e48cb5145d5928acf50ae71ad49@portal.ufvjm.edu.br
CONTACT:https://www.cevibra.com.br/evento/i-ciclo-de-debates-60-anos-golpe
 -de-1964
CREATED;VALUE=DATE-TIME:20240320T215304Z
DESCRIPTION:2 e 3 de abril
LAST-MODIFIED;VALUE=DATE-TIME:20240321T131301Z
LOCATION:Prédio do Nipe - Campus do Mucuri
URL:https://portal.ufvjm.edu.br/agendas/eventos/2024/1-ciclo-de-debates-60
 -anos-golpe-de-1964
END:VEVENT
END:VCALENDAR
