BEGIN:VCALENDAR
VERSION:2.0
PRODID:-//Plone.org//NONSGML plone.app.event//EN
X-WR-TIMEZONE:America/Sao_Paulo
BEGIN:VEVENT
SUMMARY:Workshop “IOT e Arduíno: experiências e possibilidades de uso
 ”
DTSTART;TZID=America/Sao_Paulo;VALUE=DATE-TIME:20230629T140000
DTSTAMP;VALUE=DATE-TIME:20260423T150125Z
UID:d97a83ad0a2341908da8272b6d778d70@portal.ufvjm.edu.br
CONTACT:https://docs.google.com/forms/d/e/1FAIpQLSfRBlJjGfRYywnztJm-vWjHPI
 ETraV9TqhjUFbYR8a2cVRoiA/viewform?pli=1
CREATED;VALUE=DATE-TIME:20230626T171438Z
DESCRIPTION:29 de junho
LAST-MODIFIED;VALUE=DATE-TIME:20250402T174913Z
LOCATION:Prédio da Diretoria de Educação Aberta e a Distância - Campus
  JK
URL:https://portal.ufvjm.edu.br/agendas/eventos/2023/workshop-iot-arduino-
 experiencias-e-possibilidades-de-uso
END:VEVENT
BEGIN:VTIMEZONE
TZID:America/Sao_Paulo
X-LIC-LOCATION:America/Sao_Paulo
BEGIN:STANDARD
DTSTART;VALUE=DATE-TIME:20230225T230000
TZNAME:BRT
TZOFFSETFROM:-0200
TZOFFSETTO:-0300
END:STANDARD
END:VTIMEZONE
END:VCALENDAR
