BEGIN:VCALENDAR
VERSION:2.0
PRODID:-//Plone.org//NONSGML plone.app.event//EN
X-WR-TIMEZONE:America/Sao_Paulo
BEGIN:VEVENT
SUMMARY:VIVA UFVJM VIVA
DTSTART;VALUE=DATE:20230821
DTEND;VALUE=DATE:20230909
DTSTAMP;VALUE=DATE-TIME:20260424T045036Z
UID:8591591ead6e49acaa5da95622caecae@portal.ufvjm.edu.br
CREATED;VALUE=DATE-TIME:20230818T173424Z
DESCRIPTION:21 de agosto a 8 de setembro
LAST-MODIFIED;VALUE=DATE-TIME:20250402T174932Z
URL:https://portal.ufvjm.edu.br/agendas/eventos/2023/viva-ufvjm-viva
END:VEVENT
END:VCALENDAR
