BEGIN:VCALENDAR
VERSION:2.0
PRODID:-//Plone.org//NONSGML plone.app.event//EN
X-WR-TIMEZONE:America/Sao_Paulo
BEGIN:VEVENT
SUMMARY:Universidade nas Comunidades
DTSTART;VALUE=DATE:20230321
DTEND;VALUE=DATE:20230324
DTSTAMP;VALUE=DATE-TIME:20260423T020119Z
UID:0221332f0b654e97ad59cf2b26a0fa66@portal.ufvjm.edu.br
CREATED;VALUE=DATE-TIME:20230316T200301Z
DESCRIPTION:21 a 23 de março
LAST-MODIFIED;VALUE=DATE-TIME:20250402T174856Z
LOCATION:Distritos de Diamantina/MG
URL:https://portal.ufvjm.edu.br/agendas/eventos/2023/universidadenascomuni
 dades
END:VEVENT
END:VCALENDAR
