BEGIN:VCALENDAR
VERSION:2.0
PRODID:-//Plone.org//NONSGML plone.app.event//EN
X-WR-TIMEZONE:America/Sao_Paulo
BEGIN:VEVENT
SUMMARY:Recepção de calouros 2022/2 e 2023/1
DTSTART;TZID=America/Sao_Paulo;VALUE=DATE-TIME:20230412T140000
DTEND;TZID=America/Sao_Paulo;VALUE=DATE-TIME:20230412T170000
DTSTAMP;VALUE=DATE-TIME:20260423T150127Z
UID:6a839b1decbf41e78b9399ec1633c9b4@portal.ufvjm.edu.br
CONTACT:https://www.youtube.com/watch?v=vtlH7Ena2Ug
CREATED;VALUE=DATE-TIME:20230411T143249Z
DESCRIPTION:12 de abril
LAST-MODIFIED;VALUE=DATE-TIME:20250402T174859Z
LOCATION:Evento on-line
URL:https://portal.ufvjm.edu.br/agendas/eventos/2023/ufvjm-recebe-calouros
 -2022-2-e-2023-1-com-evento-virtual
END:VEVENT
BEGIN:VTIMEZONE
TZID:America/Sao_Paulo
X-LIC-LOCATION:America/Sao_Paulo
BEGIN:STANDARD
DTSTART;VALUE=DATE-TIME:20230225T230000
TZNAME:BRT
TZOFFSETFROM:-0200
TZOFFSETTO:-0300
END:STANDARD
END:VTIMEZONE
END:VCALENDAR
