BEGIN:VCALENDAR
VERSION:2.0
PRODID:-//Plone.org//NONSGML plone.app.event//EN
X-WR-TIMEZONE:America/Sao_Paulo
BEGIN:VEVENT
SUMMARY:Semana Nacional do Livro e da Biblioteca na UFVJM
DTSTART;VALUE=DATE:20231023
DTEND;VALUE=DATE:20231028
DTSTAMP;VALUE=DATE-TIME:20260423T170417Z
UID:254fba3dd41b495b9baefd839b8505f3@portal.ufvjm.edu.br
CONTACT:https://docs.google.com/forms/d/e/1FAIpQLSdVXPclfkcxxKXdAkY0AS40gr
 UwUAo0hOJgOt502PSdod1zkw/viewform
CREATED;VALUE=DATE-TIME:20231019T193350Z
DESCRIPTION:23 a 27 de outubro
LAST-MODIFIED;VALUE=DATE-TIME:20250402T174956Z
LOCATION:Campi da UFVJM
URL:https://portal.ufvjm.edu.br/agendas/eventos/2023/semana-nacional-do-li
 vro-e-da-biblioteca-na-ufvjm
END:VEVENT
END:VCALENDAR
