BEGIN:VCALENDAR
VERSION:2.0
PRODID:-//Plone.org//NONSGML plone.app.event//EN
X-WR-TIMEZONE:America/Sao_Paulo
BEGIN:VEVENT
SUMMARY:Sarau “Por toda a minha vida”
DTSTART;TZID=America/Sao_Paulo;VALUE=DATE-TIME:20230712T120000
DTSTAMP;VALUE=DATE-TIME:20260424T231849Z
UID:e28a2898bc9549c9aa4b5e690a6e3627@portal.ufvjm.edu.br
CREATED;VALUE=DATE-TIME:20230710T191721Z
DESCRIPTION:12 de julho
LAST-MODIFIED;VALUE=DATE-TIME:20250402T174916Z
LOCATION:Praça de Serviços - Campus JK
URL:https://portal.ufvjm.edu.br/agendas/eventos/2023/sarau-por-toda-a-minh
 a-vida
END:VEVENT
BEGIN:VTIMEZONE
TZID:America/Sao_Paulo
X-LIC-LOCATION:America/Sao_Paulo
BEGIN:STANDARD
DTSTART;VALUE=DATE-TIME:20230225T230000
TZNAME:BRT
TZOFFSETFROM:-0200
TZOFFSETTO:-0300
END:STANDARD
END:VTIMEZONE
END:VCALENDAR
