BEGIN:VCALENDAR
VERSION:2.0
PRODID:-//Plone.org//NONSGML plone.app.event//EN
X-WR-TIMEZONE:America/Sao_Paulo
BEGIN:VEVENT
SUMMARY:Roda de conversa sobre cultivo seguro de alimentos
DTSTART;VALUE=DATE:20230607
DTEND;VALUE=DATE:20230608
DTSTAMP;VALUE=DATE-TIME:20260424T163013Z
UID:0e5b9ecb4cee4d8f80d98673d6956d5c@portal.ufvjm.edu.br
CONTACT:https://youtube.com/@unifespoficial
CREATED;VALUE=DATE-TIME:20230602T192650Z
DESCRIPTION:7 de junho
LAST-MODIFIED;VALUE=DATE-TIME:20250402T174911Z
LOCATION:Espaço JK - Campus I
URL:https://portal.ufvjm.edu.br/agendas/eventos/2023/roda-de-conversa-sobr
 e-cultivo-seguro-de-alimentos
END:VEVENT
END:VCALENDAR
