BEGIN:VCALENDAR
VERSION:2.0
PRODID:-//Plone.org//NONSGML plone.app.event//EN
X-WR-TIMEZONE:America/Sao_Paulo
BEGIN:VEVENT
SUMMARY:Palestra "Telecolaboração na Aprendizagem de Línguas Adicionais
 "
DTSTART;TZID=America/Sao_Paulo;VALUE=DATE-TIME:20230515T190000
DTEND;TZID=America/Sao_Paulo;VALUE=DATE-TIME:20230515T210000
DTSTAMP;VALUE=DATE-TIME:20260424T024044Z
UID:73c3fb9b1b70440c9e9292b5ebd3f54e@portal.ufvjm.edu.br
CONTACT:https://meet.google.com/pxt-bkmu-ssc
CREATED;VALUE=DATE-TIME:20230509T130704Z
DESCRIPTION:15 de maio
LAST-MODIFIED;VALUE=DATE-TIME:20250402T174903Z
LOCATION:Evento on-line
URL:https://portal.ufvjm.edu.br/agendas/eventos/2023/projeto-de-extensao-d
 a-ufvjm-promove-palestra-on-line-sobre-aprendizagem-de-linguas
END:VEVENT
BEGIN:VTIMEZONE
TZID:America/Sao_Paulo
X-LIC-LOCATION:America/Sao_Paulo
BEGIN:STANDARD
DTSTART;VALUE=DATE-TIME:20230225T230000
TZNAME:BRT
TZOFFSETFROM:-0200
TZOFFSETTO:-0300
END:STANDARD
END:VTIMEZONE
END:VCALENDAR
