BEGIN:VCALENDAR
VERSION:2.0
PRODID:-//Plone.org//NONSGML plone.app.event//EN
X-WR-TIMEZONE:America/Sao_Paulo
BEGIN:VEVENT
SUMMARY:Popcorn: a medicina na sétima arte - Filme “Bela Vingança”
DTSTART;TZID=America/Sao_Paulo;VALUE=DATE-TIME:20230929T180000
DTSTAMP;VALUE=DATE-TIME:20260423T001230Z
UID:ecbd4ef1f8214fa1ab8ed79de6636827@portal.ufvjm.edu.br
CONTACT:https://www.even3.com.br/pop-corn-sessao-06-bela-vinganca-385252/
CREATED;VALUE=DATE-TIME:20230919T163226Z
DESCRIPTION:29 de setembro
LAST-MODIFIED;VALUE=DATE-TIME:20250402T174948Z
LOCATION:Auditório Central - Campus do Mucuri
URL:https://portal.ufvjm.edu.br/agendas/eventos/2023/popcorn-a-medicina-na
 -setima-arte-filme-bela-vinganca
END:VEVENT
BEGIN:VTIMEZONE
TZID:America/Sao_Paulo
X-LIC-LOCATION:America/Sao_Paulo
BEGIN:STANDARD
DTSTART;VALUE=DATE-TIME:20230225T230000
TZNAME:BRT
TZOFFSETFROM:-0200
TZOFFSETTO:-0300
END:STANDARD
END:VTIMEZONE
END:VCALENDAR
