BEGIN:VCALENDAR
VERSION:2.0
PRODID:-//Plone.org//NONSGML plone.app.event//EN
X-WR-TIMEZONE:America/Sao_Paulo
BEGIN:VEVENT
SUMMARY:Peça Teatral: “De comprimido em comprimido\, eis o perigo!”
DTSTART;TZID=America/Sao_Paulo;VALUE=DATE-TIME:20230707T110000
DTEND;TZID=America/Sao_Paulo;VALUE=DATE-TIME:20230707T120000
DTSTAMP;VALUE=DATE-TIME:20260423T224434Z
UID:45c433da0b3e45a8b0377c2f9614dcd7@portal.ufvjm.edu.br
CREATED;VALUE=DATE-TIME:20230706T112932Z
DESCRIPTION:7 de julho
LAST-MODIFIED;VALUE=DATE-TIME:20250402T174915Z
LOCATION:Auditório da Reitoria - Campus JK
URL:https://portal.ufvjm.edu.br/agendas/eventos/2023/peca-teatral-de-compr
 imido-em-comprimido-eis-o-perigo
END:VEVENT
BEGIN:VTIMEZONE
TZID:America/Sao_Paulo
X-LIC-LOCATION:America/Sao_Paulo
BEGIN:STANDARD
DTSTART;VALUE=DATE-TIME:20230225T230000
TZNAME:BRT
TZOFFSETFROM:-0200
TZOFFSETTO:-0300
END:STANDARD
END:VTIMEZONE
END:VCALENDAR
