BEGIN:VCALENDAR
VERSION:2.0
PRODID:-//Plone.org//NONSGML plone.app.event//EN
X-WR-TIMEZONE:America/Sao_Paulo
BEGIN:VEVENT
SUMMARY:Passeios bordados a Diamantina – uma releitura da obra de Guigna
 rd
DTSTART;TZID=America/Sao_Paulo;VALUE=DATE-TIME:20230602T150000
DTEND;TZID=America/Sao_Paulo;VALUE=DATE-TIME:20230602T170000
DTSTAMP;VALUE=DATE-TIME:20260423T072742Z
UID:84f3b6544f0746778041188e7ca38e67@portal.ufvjm.edu.br
CREATED;VALUE=DATE-TIME:20230529T182231Z
DESCRIPTION:2 de junho
LAST-MODIFIED;VALUE=DATE-TIME:20250402T174910Z
LOCATION:Casa de Juscelino - Diamantina
URL:https://portal.ufvjm.edu.br/agendas/eventos/2023/passeios-bordados-a-d
 iamantina-2013-uma-releitura-da-obra-de-guignard
END:VEVENT
BEGIN:VTIMEZONE
TZID:America/Sao_Paulo
X-LIC-LOCATION:America/Sao_Paulo
BEGIN:STANDARD
DTSTART;VALUE=DATE-TIME:20230225T230000
TZNAME:BRT
TZOFFSETFROM:-0200
TZOFFSETTO:-0300
END:STANDARD
END:VTIMEZONE
END:VCALENDAR
