BEGIN:VCALENDAR
VERSION:2.0
PRODID:-//Plone.org//NONSGML plone.app.event//EN
X-WR-TIMEZONE:America/Sao_Paulo
BEGIN:VEVENT
SUMMARY:Palestra e relatos de experiência: A luta institucional antirraci
 sta e seus desafios
DTSTART;TZID=America/Sao_Paulo;VALUE=DATE-TIME:20231123T143000
DTSTAMP;VALUE=DATE-TIME:20260423T035425Z
UID:6d20ba4ffdb84c61810b0e69247076ea@portal.ufvjm.edu.br
CONTACT:https://www.even3.com.br/a-luta-institucional-antirracista-e-seus-
 desafios-407628/
CREATED;VALUE=DATE-TIME:20231110T190357Z
DESCRIPTION:23 de novembro
LAST-MODIFIED;VALUE=DATE-TIME:20250402T175003Z
LOCATION:Auditório da Reitoria - Campus JK
URL:https://portal.ufvjm.edu.br/agendas/eventos/2023/palestra-e-relatos-de
 -experiencia-a-luta-institucional-antirracista-e-seus-desafios
END:VEVENT
BEGIN:VTIMEZONE
TZID:America/Sao_Paulo
X-LIC-LOCATION:America/Sao_Paulo
BEGIN:DAYLIGHT
DTSTART;VALUE=DATE-TIME:20231015T010000
TZNAME:BRST
TZOFFSETFROM:-0300
TZOFFSETTO:-0200
END:DAYLIGHT
END:VTIMEZONE
END:VCALENDAR
