BEGIN:VCALENDAR
VERSION:2.0
PRODID:-//Plone.org//NONSGML plone.app.event//EN
X-WR-TIMEZONE:America/Sao_Paulo
BEGIN:VEVENT
SUMMARY:Oficina prática “Yoga em águas naturais: aquayoga como a arte 
 da auto-observação e desenvolvimento da consciência”
DTSTART;TZID=America/Sao_Paulo;VALUE=DATE-TIME:20230929T133000
DTSTAMP;VALUE=DATE-TIME:20260424T163617Z
UID:71246bf3c6784d1d9aae09d6efbffcf4@portal.ufvjm.edu.br
CONTACT:https://docs.google.com/forms/d/e/1FAIpQLScp2Yo1R_njX5Z9AbGM6SymBx
 _0INErbv8jX1NloHt2oA7uhQ/viewform
CREATED;VALUE=DATE-TIME:20230926T184150Z
DESCRIPTION:29 de setembro
LAST-MODIFIED;VALUE=DATE-TIME:20250402T174952Z
LOCATION:Parque do Biribiri - Diamantina/MG
URL:https://portal.ufvjm.edu.br/agendas/eventos/2023/oficina-pratica-yoga-
 em-aguas-naturais-aquayoga-como-a-arte-da-auto-observacao-e-desenvolviment
 o-da-consciencia
END:VEVENT
BEGIN:VTIMEZONE
TZID:America/Sao_Paulo
X-LIC-LOCATION:America/Sao_Paulo
BEGIN:STANDARD
DTSTART;VALUE=DATE-TIME:20230225T230000
TZNAME:BRT
TZOFFSETFROM:-0200
TZOFFSETTO:-0300
END:STANDARD
END:VTIMEZONE
END:VCALENDAR
