BEGIN:VCALENDAR
VERSION:2.0
PRODID:-//Plone.org//NONSGML plone.app.event//EN
X-WR-TIMEZONE:America/Sao_Paulo
BEGIN:VEVENT
SUMMARY:Oficina Prática: “Alimentação\, Arte e Depressão. O que tem 
 a ver?”
DTSTART;TZID=America/Sao_Paulo;VALUE=DATE-TIME:20230707T100000
DTSTAMP;VALUE=DATE-TIME:20260424T023553Z
UID:69552e1d89cd44ac86978e29f5114447@portal.ufvjm.edu.br
CONTACT:https://docs.google.com/forms/d/18WbaYoUegYaMiER6PHYdgWcJN1LH8A_QP
 Ee27w7RIt0/viewform?edit_requested=true
CREATED;VALUE=DATE-TIME:20230706T112049Z
DESCRIPTION:7 de julho
LAST-MODIFIED;VALUE=DATE-TIME:20250402T174915Z
LOCATION:Laboratório de Sociologia (Sala 117) - Campus JK
URL:https://portal.ufvjm.edu.br/agendas/eventos/2023/oficina-pratica-alime
 ntacao-arte-e-depressao-o-que-tem-a-ver
END:VEVENT
BEGIN:VTIMEZONE
TZID:America/Sao_Paulo
X-LIC-LOCATION:America/Sao_Paulo
BEGIN:STANDARD
DTSTART;VALUE=DATE-TIME:20230225T230000
TZNAME:BRT
TZOFFSETFROM:-0200
TZOFFSETTO:-0300
END:STANDARD
END:VTIMEZONE
END:VCALENDAR
