BEGIN:VCALENDAR
VERSION:2.0
PRODID:-//Plone.org//NONSGML plone.app.event//EN
X-WR-TIMEZONE:America/Sao_Paulo
BEGIN:VEVENT
SUMMARY:Oficina “De Peito Aberto: arte contra a depressão”
DTSTART;TZID=America/Sao_Paulo;VALUE=DATE-TIME:20230622T140000
DTEND;TZID=America/Sao_Paulo;VALUE=DATE-TIME:20230622T170000
DTSTAMP;VALUE=DATE-TIME:20260423T235454Z
UID:a2f097f52a524061b00d354b7c3e086f@portal.ufvjm.edu.br
CONTACT:https://docs.google.com/forms/d/e/1FAIpQLScTkjyrm7uphaTo86njdMRuqB
 a7X-4UH8ecg8f34Ok95Qow8g/viewform?pli=1
CREATED;VALUE=DATE-TIME:20230619T200319Z
DESCRIPTION:22 de junho
LAST-MODIFIED;VALUE=DATE-TIME:20250402T174912Z
LOCATION:Laboratório de Sociologia - Campus JK
URL:https://portal.ufvjm.edu.br/agendas/eventos/2023/oficina-de-peito-aber
 to-arte-contra-a-depressao
END:VEVENT
BEGIN:VTIMEZONE
TZID:America/Sao_Paulo
X-LIC-LOCATION:America/Sao_Paulo
BEGIN:STANDARD
DTSTART;VALUE=DATE-TIME:20230225T230000
TZNAME:BRT
TZOFFSETFROM:-0200
TZOFFSETTO:-0300
END:STANDARD
END:VTIMEZONE
END:VCALENDAR
