BEGIN:VCALENDAR
VERSION:2.0
PRODID:-//Plone.org//NONSGML plone.app.event//EN
X-WR-TIMEZONE:America/Sao_Paulo
BEGIN:VEVENT
SUMMARY:Oficina de Criação em Dança Estudo dos Vetores pela Técnica Kl
 auss Vianna: púbis e sacro
DTSTART;TZID=America/Sao_Paulo;VALUE=DATE-TIME:20230112T160000
DTEND;TZID=America/Sao_Paulo;VALUE=DATE-TIME:20230112T180000
DTSTAMP;VALUE=DATE-TIME:20260423T184632Z
UID:70155d41ae8748648b0bbc60941b9e33@portal.ufvjm.edu.br
CREATED;VALUE=DATE-TIME:20230106T170621Z
DESCRIPTION:12 de janeiro
LAST-MODIFIED;VALUE=DATE-TIME:20250402T174850Z
LOCATION:Campus JK\, Diamantina/MG
URL:https://portal.ufvjm.edu.br/agendas/eventos/2023/oficina-de-criacao-em
 -danca-estudo-dos-vetores-pela-tecnica-klauss-vianna-pubis-e-sacro
END:VEVENT
BEGIN:VTIMEZONE
TZID:America/Sao_Paulo
X-LIC-LOCATION:America/Sao_Paulo
BEGIN:DAYLIGHT
DTSTART;VALUE=DATE-TIME:20221016T010000
TZNAME:BRST
TZOFFSETFROM:-0300
TZOFFSETTO:-0200
END:DAYLIGHT
END:VTIMEZONE
END:VCALENDAR
