BEGIN:VCALENDAR
VERSION:2.0
PRODID:-//Plone.org//NONSGML plone.app.event//EN
X-WR-TIMEZONE:America/Sao_Paulo
BEGIN:VEVENT
SUMMARY:Mesa-redonda on-line “Docência\, trajetórias e identidade prof
 issional: a atuação do professor de ciências e química”
DTSTART;TZID=America/Sao_Paulo;VALUE=DATE-TIME:20230510T190000
DTSTAMP;VALUE=DATE-TIME:20260423T145724Z
UID:66d163deea4c4439bf82af23dfaa6a27@portal.ufvjm.edu.br
CONTACT:https://www.youtube.com/@canalead-ufvjm7144
CREATED;VALUE=DATE-TIME:20230505T194901Z
DESCRIPTION:10 de maio
LAST-MODIFIED;VALUE=DATE-TIME:20250402T174903Z
LOCATION:Evento on-line
URL:https://portal.ufvjm.edu.br/agendas/eventos/2023/mesa-redonda-on-line-
 201cdocencia-trajetorias-e-identidade-profissional-a-atuacao-do-professor-
 de-ciencias-e-quimica201d
END:VEVENT
BEGIN:VTIMEZONE
TZID:America/Sao_Paulo
X-LIC-LOCATION:America/Sao_Paulo
BEGIN:STANDARD
DTSTART;VALUE=DATE-TIME:20230225T230000
TZNAME:BRT
TZOFFSETFROM:-0200
TZOFFSETTO:-0300
END:STANDARD
END:VTIMEZONE
END:VCALENDAR
