BEGIN:VCALENDAR
VERSION:2.0
PRODID:-//Plone.org//NONSGML plone.app.event//EN
X-WR-TIMEZONE:America/Sao_Paulo
BEGIN:VEVENT
SUMMARY:Live da gestão: diálogo com a comunidade
DTSTART;TZID=America/Sao_Paulo;VALUE=DATE-TIME:20231201T103000
DTSTAMP;VALUE=DATE-TIME:20260423T020104Z
UID:b9f56a23687a4e1696dbb1500a7ff837@portal.ufvjm.edu.br
CONTACT:https://www.youtube.com/ufvjmoficial
CREATED;VALUE=DATE-TIME:20231130T121053Z
DESCRIPTION:1º de dezembro
LAST-MODIFIED;VALUE=DATE-TIME:20250402T175008Z
LOCATION:Evento on-line
URL:https://portal.ufvjm.edu.br/agendas/eventos/2023/live-da-gestao-dialog
 o-com-a-comunidade
END:VEVENT
BEGIN:VTIMEZONE
TZID:America/Sao_Paulo
X-LIC-LOCATION:America/Sao_Paulo
BEGIN:DAYLIGHT
DTSTART;VALUE=DATE-TIME:20231015T010000
TZNAME:BRST
TZOFFSETFROM:-0300
TZOFFSETTO:-0200
END:DAYLIGHT
END:VTIMEZONE
END:VCALENDAR
