BEGIN:VCALENDAR
VERSION:2.0
PRODID:-//Plone.org//NONSGML plone.app.event//EN
X-WR-TIMEZONE:America/Sao_Paulo
BEGIN:VEVENT
SUMMARY:Lançamento e debate do livro “Imperialismo e Empresa Estatal no
  Capitalismo Dependente Brasileiro (1956-1998)”
DTSTART;TZID=America/Sao_Paulo;VALUE=DATE-TIME:20230713T190000
DTSTAMP;VALUE=DATE-TIME:20260422T134739Z
UID:74828c1a22dd46728e7cc67e359b4a49@portal.ufvjm.edu.br
CONTACT:http://www.cevibra.com.br/evento/lancamento-do-livro-imperialismo-
 e-empresa-estatal-no-capitalismo-dependente-brasileiro-1956-1998
CREATED;VALUE=DATE-TIME:20230706T114149Z
DESCRIPTION:13 de julho
LAST-MODIFIED;VALUE=DATE-TIME:20250402T174916Z
LOCATION:Auditório do Nipe - Campus do Mucuri
URL:https://portal.ufvjm.edu.br/agendas/eventos/2023/lancamento-e-debate-d
 o-livro-imperialismo-e-empresa-estatal-no-capitalismo-dependente-brasileir
 o-1956-1998
END:VEVENT
BEGIN:VTIMEZONE
TZID:America/Sao_Paulo
X-LIC-LOCATION:America/Sao_Paulo
BEGIN:STANDARD
DTSTART;VALUE=DATE-TIME:20230225T230000
TZNAME:BRT
TZOFFSETFROM:-0200
TZOFFSETTO:-0300
END:STANDARD
END:VTIMEZONE
END:VCALENDAR
