BEGIN:VCALENDAR
VERSION:2.0
PRODID:-//Plone.org//NONSGML plone.app.event//EN
X-WR-TIMEZONE:America/Sao_Paulo
BEGIN:VEVENT
SUMMARY:Lançamento de segunda edição de livro sobre história da univer
 sidade
DTSTART;TZID=America/Sao_Paulo;VALUE=DATE-TIME:20230728T150000
DTSTAMP;VALUE=DATE-TIME:20260424T163502Z
UID:6a37f927b635432d8cebf41e60b70401@portal.ufvjm.edu.br
CONTACT:https://www.youtube.com/live/dAiEhNp7mi4?feature=share
CREATED;VALUE=DATE-TIME:20230720T141631Z
DESCRIPTION:28 de julho
LAST-MODIFIED;VALUE=DATE-TIME:20250402T174918Z
LOCATION:Anfiteatro - Campus I
URL:https://portal.ufvjm.edu.br/agendas/eventos/2023/lancamento-de-segunda
 -edicao-de-livro-sobre-historia-da-universidade
END:VEVENT
BEGIN:VTIMEZONE
TZID:America/Sao_Paulo
X-LIC-LOCATION:America/Sao_Paulo
BEGIN:STANDARD
DTSTART;VALUE=DATE-TIME:20230225T230000
TZNAME:BRT
TZOFFSETFROM:-0200
TZOFFSETTO:-0300
END:STANDARD
END:VTIMEZONE
END:VCALENDAR
