BEGIN:VCALENDAR
VERSION:2.0
PRODID:-//Plone.org//NONSGML plone.app.event//EN
X-WR-TIMEZONE:America/Sao_Paulo
BEGIN:VEVENT
SUMMARY:Jornada Universitária em Defesa da Reforma Agrária - Jura dos Va
 les 2023
DTSTART;TZID=America/Sao_Paulo;VALUE=DATE-TIME:20230906T110000
DTEND;TZID=America/Sao_Paulo;VALUE=DATE-TIME:20230930T120000
DTSTAMP;VALUE=DATE-TIME:20260424T161246Z
UID:7c95a72d38b94027a9bdec331a41dae4@portal.ufvjm.edu.br
CONTACT:https://instagram.com/jura_dos_vales
CREATED;VALUE=DATE-TIME:20230904T151325Z
DESCRIPTION:6\, 10\, 11\, 12 e 30 de setembro
LAST-MODIFIED;VALUE=DATE-TIME:20250402T174934Z
LOCATION:Campus do Mucuri - Teófilo Otoni/MG
URL:https://portal.ufvjm.edu.br/agendas/eventos/2023/jornada-universitaria
 -em-defesa-da-reforma-agraria-jura-dos-vales-2023
END:VEVENT
BEGIN:VTIMEZONE
TZID:America/Sao_Paulo
X-LIC-LOCATION:America/Sao_Paulo
BEGIN:STANDARD
DTSTART;VALUE=DATE-TIME:20230225T230000
TZNAME:BRT
TZOFFSETFROM:-0200
TZOFFSETTO:-0300
END:STANDARD
END:VTIMEZONE
END:VCALENDAR
