BEGIN:VCALENDAR
VERSION:2.0
PRODID:-//Plone.org//NONSGML plone.app.event//EN
X-WR-TIMEZONE:America/Sao_Paulo
BEGIN:VEVENT
SUMMARY:Intercâmbio Brasil - Peru
DTSTART;VALUE=DATE:20230112
DTEND;VALUE=DATE:20230126
DTSTAMP;VALUE=DATE-TIME:20260423T100807Z
UID:e78118d5ba344024b0d59ae1f737f171@portal.ufvjm.edu.br
CREATED;VALUE=DATE-TIME:20230111T191141Z
DESCRIPTION:12 a 25 de janeiro
LAST-MODIFIED;VALUE=DATE-TIME:20250402T174851Z
LOCATION:Diamantina/MG
URL:https://portal.ufvjm.edu.br/agendas/eventos/2023/intercambio-brasil-pe
 ru
END:VEVENT
END:VCALENDAR
