BEGIN:VCALENDAR
VERSION:2.0
PRODID:-//Plone.org//NONSGML plone.app.event//EN
X-WR-TIMEZONE:America/Sao_Paulo
BEGIN:VEVENT
SUMMARY:Espetáculo cênico-musical Somos todos Clara
DTSTART;TZID=America/Sao_Paulo;VALUE=DATE-TIME:20230913T200000
DTSTAMP;VALUE=DATE-TIME:20260423T020157Z
UID:14ee1e01f9324a909c3006adbffc2a6d@portal.ufvjm.edu.br
CREATED;VALUE=DATE-TIME:20230912T125737Z
DESCRIPTION:13 de setembro
LAST-MODIFIED;VALUE=DATE-TIME:20250402T174936Z
LOCATION:Auditório do Nipe - Campus do Mucuri
URL:https://portal.ufvjm.edu.br/agendas/eventos/2023/espetaculo-cenico-mus
 ical-somos-todos-clara
END:VEVENT
BEGIN:VTIMEZONE
TZID:America/Sao_Paulo
X-LIC-LOCATION:America/Sao_Paulo
BEGIN:STANDARD
DTSTART;VALUE=DATE-TIME:20230225T230000
TZNAME:BRT
TZOFFSETFROM:-0200
TZOFFSETTO:-0300
END:STANDARD
END:VTIMEZONE
END:VCALENDAR
