BEGIN:VCALENDAR
VERSION:2.0
PRODID:-//Plone.org//NONSGML plone.app.event//EN
X-WR-TIMEZONE:America/Sao_Paulo
BEGIN:VEVENT
SUMMARY:Encontro do Artesanato do Vale do Jequitinhonha
DTSTART;VALUE=DATE:20230920
DTEND;VALUE=DATE:20230921
DTSTAMP;VALUE=DATE-TIME:20260424T125200Z
UID:957cfb1a64504c5f847aab047ef14de2@portal.ufvjm.edu.br
CONTACT:https://laproce.com.br/
CREATED;VALUE=DATE-TIME:20230919T120702Z
DESCRIPTION:20 de setembro
LAST-MODIFIED;VALUE=DATE-TIME:20250402T174943Z
LOCATION:Auditório da Reitoria - Campus JK
URL:https://portal.ufvjm.edu.br/agendas/eventos/2023/encontro-do-artesanat
 o-do-vale-do-jequitinhonha
END:VEVENT
END:VCALENDAR
