BEGIN:VCALENDAR
VERSION:2.0
PRODID:-//Plone.org//NONSGML plone.app.event//EN
X-WR-TIMEZONE:America/Sao_Paulo
BEGIN:VEVENT
SUMMARY:Dia das Crianças na Brinquedoteca da UFVJM
DTSTART;TZID=America/Sao_Paulo;VALUE=DATE-TIME:20231011T140000
DTEND;TZID=America/Sao_Paulo;VALUE=DATE-TIME:20231011T160000
DTSTAMP;VALUE=DATE-TIME:20260423T020154Z
UID:773f0ceb25444586a439bbc048b6fa13@portal.ufvjm.edu.br
CONTACT:https://docs.google.com/forms/d/1-qhy0dHXWxzu7vdCF1CvJBmC2tjUkcb6J
 BfjJIwEn0I/edit?ts=651b111a
CREATED;VALUE=DATE-TIME:20231006T111711Z
DESCRIPTION:11 de outubro
LAST-MODIFIED;VALUE=DATE-TIME:20250402T174953Z
LOCATION:Prédio do curso de Educação Física - Campus JK
URL:https://portal.ufvjm.edu.br/agendas/eventos/2023/dia-da-crianca-na-bri
 nquedoteca-da-ufvjm
END:VEVENT
BEGIN:VTIMEZONE
TZID:America/Sao_Paulo
X-LIC-LOCATION:America/Sao_Paulo
BEGIN:STANDARD
DTSTART;VALUE=DATE-TIME:20230225T230000
TZNAME:BRT
TZOFFSETFROM:-0200
TZOFFSETTO:-0300
END:STANDARD
END:VTIMEZONE
END:VCALENDAR
