BEGIN:VCALENDAR
VERSION:2.0
PRODID:-//Plone.org//NONSGML plone.app.event//EN
X-WR-TIMEZONE:America/Sao_Paulo
BEGIN:VEVENT
SUMMARY:Curso de Prevenção do Suicídio
DTSTART;TZID=America/Sao_Paulo;VALUE=DATE-TIME:20230213T183000
DTEND;TZID=America/Sao_Paulo;VALUE=DATE-TIME:20230215T223000
DTSTAMP;VALUE=DATE-TIME:20260423T121108Z
UID:93a7ebc4a0a54bddb4ca19f335c66eb0@portal.ufvjm.edu.br
CONTACT:https://www.even3.com.br/curso-on-lline-de-prevencao-do-suicidio-3
 10300
CREATED;VALUE=DATE-TIME:20230202T144613Z
DESCRIPTION:13 e 15 de fevereiro
LAST-MODIFIED;VALUE=DATE-TIME:20250402T174853Z
LOCATION:Evento on-line
URL:https://portal.ufvjm.edu.br/agendas/eventos/2023/curso-sobre-prevencao
 -do-suicidio
END:VEVENT
BEGIN:VTIMEZONE
TZID:America/Sao_Paulo
X-LIC-LOCATION:America/Sao_Paulo
BEGIN:DAYLIGHT
DTSTART;VALUE=DATE-TIME:20221016T010000
TZNAME:BRST
TZOFFSETFROM:-0300
TZOFFSETTO:-0200
END:DAYLIGHT
END:VTIMEZONE
END:VCALENDAR
