BEGIN:VCALENDAR
VERSION:2.0
PRODID:-//Plone.org//NONSGML plone.app.event//EN
X-WR-TIMEZONE:America/Sao_Paulo
BEGIN:VEVENT
SUMMARY:Curso Horta Urbana para iniciantes – Aprenda a fazer a sua
DTSTART;VALUE=DATE:20230303
DTEND;VALUE=DATE:20230415
DTSTAMP;VALUE=DATE-TIME:20260422T030723Z
UID:f3e99f2d82ab424ea9e90c237fd8393f@portal.ufvjm.edu.br
CREATED;VALUE=DATE-TIME:20230228T192934Z
DESCRIPTION:3 de março a 14 de abril
LAST-MODIFIED;VALUE=DATE-TIME:20250402T174855Z
LOCATION:Evento on-line
URL:https://portal.ufvjm.edu.br/agendas/eventos/2023/curso-horta-urbana-pa
 ra-iniciantes-2013-aprenda-a-fazer-a-sua
END:VEVENT
END:VCALENDAR
