BEGIN:VCALENDAR
VERSION:2.0
PRODID:-//Plone.org//NONSGML plone.app.event//EN
X-WR-TIMEZONE:America/Sao_Paulo
BEGIN:VEVENT
SUMMARY:Curso de Prevenção do Suicídio
DTSTART;VALUE=DATE:20231121
DTEND;VALUE=DATE:20231124
DTSTAMP;VALUE=DATE-TIME:20260423T130129Z
UID:b7f407c9ed434634a637a17dcf0a84b0@portal.ufvjm.edu.br
CONTACT:https://www.even3.com.br/capacitacao-prevencao-do-suicidio-411965/
CREATED;VALUE=DATE-TIME:20231114T184950Z
DESCRIPTION:21 e 23 de novembro
LAST-MODIFIED;VALUE=DATE-TIME:20250402T175003Z
LOCATION:Evento on-line
URL:https://portal.ufvjm.edu.br/agendas/eventos/2023/curso-de-prevencao-do
 -suicidio
END:VEVENT
END:VCALENDAR
