BEGIN:VCALENDAR
VERSION:2.0
PRODID:-//Plone.org//NONSGML plone.app.event//EN
X-WR-TIMEZONE:America/Sao_Paulo
BEGIN:VEVENT
SUMMARY:Curso de Prevenção de Comportamentos Autolesivos
DTSTART;TZID=America/Sao_Paulo;VALUE=DATE-TIME:20230523T183000
DTEND;TZID=America/Sao_Paulo;VALUE=DATE-TIME:20230523T193000
DTSTAMP;VALUE=DATE-TIME:20260423T210312Z
UID:b93b7ba60daf48759020128954e5796d@portal.ufvjm.edu.br
CONTACT:https://www.even3.com.br/curso-de-prevencao-a-comportamentos-autol
 esivos-340306
CREATED;VALUE=DATE-TIME:20230515T204216Z
DESCRIPTION:23 de maio
LAST-MODIFIED;VALUE=DATE-TIME:20250402T174908Z
LOCATION:Evento on-line
URL:https://portal.ufvjm.edu.br/agendas/eventos/2023/curso-de-prevencao-de
 -comportamentos-autolesivos
END:VEVENT
BEGIN:VTIMEZONE
TZID:America/Sao_Paulo
X-LIC-LOCATION:America/Sao_Paulo
BEGIN:STANDARD
DTSTART;VALUE=DATE-TIME:20230225T230000
TZNAME:BRT
TZOFFSETFROM:-0200
TZOFFSETTO:-0300
END:STANDARD
END:VTIMEZONE
END:VCALENDAR
