BEGIN:VCALENDAR
VERSION:2.0
PRODID:-//Plone.org//NONSGML plone.app.event//EN
X-WR-TIMEZONE:America/Sao_Paulo
BEGIN:VEVENT
SUMMARY:Curso de Jardinagem para Iniciantes: transformando pessoas e espa
 ços
DTSTART;VALUE=DATE:20231117
DTEND;VALUE=DATE:20231216
DTSTAMP;VALUE=DATE-TIME:20260423T035159Z
UID:32185562003846d79708edc7a7999c1d@portal.ufvjm.edu.br
CONTACT:https://docs.google.com/forms/d/1fWvh4zQDhADP3FWynwrhGXDbKGZc3nuUD
 KirOcaR3mE/viewform?edit_requested=true
CREATED;VALUE=DATE-TIME:20231110T141818Z
DESCRIPTION:17 de novembro a 15 de dezembro
LAST-MODIFIED;VALUE=DATE-TIME:20250402T175002Z
LOCATION:Evento on-line
URL:https://portal.ufvjm.edu.br/agendas/eventos/2023/curso-de-jardinagem-p
 ara-iniciantes-transformando-pessoas-e-espacos
END:VEVENT
END:VCALENDAR
