BEGIN:VCALENDAR
VERSION:2.0
PRODID:-//Plone.org//NONSGML plone.app.event//EN
X-WR-TIMEZONE:America/Sao_Paulo
BEGIN:VEVENT
SUMMARY:Curso de extensão Metodologias e Abordagens Diferenciadas em Ensi
 no de Ciências
DTSTART;VALUE=DATE:20230810
DTEND;VALUE=DATE:20231016
DTSTAMP;VALUE=DATE-TIME:20260424T125735Z
UID:9eb4bea6a9e74f41972d9b7e183581cc@portal.ufvjm.edu.br
CONTACT:https://forms.gle/NZWCHwcEa8iGvTz2A
CREATED;VALUE=DATE-TIME:20230804T170054Z
DESCRIPTION:10 de agosto a 15 de outubro
LAST-MODIFIED;VALUE=DATE-TIME:20250402T174923Z
LOCATION:Evento on-line
URL:https://portal.ufvjm.edu.br/agendas/eventos/2023/curso-de-extensao-met
 odologias-e-abordagens-diferenciadas-em-ensino-de-ciencias
END:VEVENT
END:VCALENDAR
