BEGIN:VCALENDAR
VERSION:2.0
PRODID:-//Plone.org//NONSGML plone.app.event//EN
X-WR-TIMEZONE:America/Sao_Paulo
BEGIN:VEVENT
SUMMARY:Curso de extensão em Espanhol: língua\, literatura e culturas hi
 spânicas
DTSTART;VALUE=DATE:20231113
DTEND;VALUE=DATE:20231216
DTSTAMP;VALUE=DATE-TIME:20260423T062204Z
UID:f3c2f6f30a774a06b717755e20334713@portal.ufvjm.edu.br
CONTACT:https://docs.google.com/forms/d/e/1FAIpQLSfISR0XfmVtpEuWXhgUXKl9rO
 AA2z_z909kLl95QqiPHiNrRw/viewform
CREATED;VALUE=DATE-TIME:20231109T172334Z
DESCRIPTION:13 de novembro a 15 de dezembro
LAST-MODIFIED;VALUE=DATE-TIME:20250402T175002Z
LOCATION:Laboratório de Práticas de Ensino de Línguas (Lapel) - Campus 
 JK
URL:https://portal.ufvjm.edu.br/agendas/eventos/2023/curso-de-extensao-em-
 espanhol-lingua-literatura-e-culturas-hispanicas
END:VEVENT
END:VCALENDAR
