BEGIN:VCALENDAR
VERSION:2.0
PRODID:-//Plone.org//NONSGML plone.app.event//EN
X-WR-TIMEZONE:America/Sao_Paulo
BEGIN:VEVENT
SUMMARY:Curso Aquilombar nos Vales: diálogos com  Lélia González e Beat
 riz Nascimento
DTSTART;VALUE=DATE:20231122
DTEND;VALUE=DATE:20231128
DTSTAMP;VALUE=DATE-TIME:20260423T020434Z
UID:73c43626e9fc4317bac6e61e3eddb632@portal.ufvjm.edu.br
CONTACT:https://docs.google.com/forms/d/e/1FAIpQLSf_PIVeas6CRdYPrz5mb7sNA-
 RHwiPfIoBMh8X0YN_oSuUqEg/viewform
CREATED;VALUE=DATE-TIME:20231117T202552Z
DESCRIPTION:22 a 27 de novembro
LAST-MODIFIED;VALUE=DATE-TIME:20250402T175004Z
LOCATION:Evento semipresencial
URL:https://portal.ufvjm.edu.br/agendas/eventos/2023/curso-aquilombar-nos-
 vales-dialogos-com-lelia-gonzalez-e-beatriz-nascimento
END:VEVENT
END:VCALENDAR
