BEGIN:VCALENDAR
VERSION:2.0
PRODID:-//Plone.org//NONSGML plone.app.event//EN
X-WR-TIMEZONE:America/Sao_Paulo
BEGIN:VEVENT
SUMMARY:Cultura na Praça
DTSTART;VALUE=DATE:20230525
DTEND;VALUE=DATE:20230626
DTSTAMP;VALUE=DATE-TIME:20260424T170644Z
UID:993d74ed245f4085a6800f0ce57d80db@portal.ufvjm.edu.br
CONTACT:https://forms.gle/FHC7KC1Jhfkp6iAF7
CREATED;VALUE=DATE-TIME:20230523T180310Z
DESCRIPTION:25 de maio\, 7 e 22 de junho e 6 de julho
LAST-MODIFIED;VALUE=DATE-TIME:20250402T174910Z
LOCATION:Espaço Arena da Praça de Serviços - Campus JK
URL:https://portal.ufvjm.edu.br/agendas/eventos/2023/cultura-na-praca
END:VEVENT
END:VCALENDAR
