BEGIN:VCALENDAR
VERSION:2.0
PRODID:-//Plone.org//NONSGML plone.app.event//EN
X-WR-TIMEZONE:America/Sao_Paulo
BEGIN:VEVENT
SUMMARY:Cultura na Praça
DTSTART;VALUE=DATE:20230706
DTEND;VALUE=DATE:20230707
DTSTAMP;VALUE=DATE-TIME:20260424T023005Z
UID:72f1a242b54342c9b6797b3b110aa9dd@portal.ufvjm.edu.br
CREATED;VALUE=DATE-TIME:20230705T142223Z
DESCRIPTION:6 de julho
LAST-MODIFIED;VALUE=DATE-TIME:20250402T174914Z
LOCATION:Espaço Arena da Praça de Serviços - Campus JK
URL:https://portal.ufvjm.edu.br/agendas/eventos/2023/cultura-na-praca-1
END:VEVENT
END:VCALENDAR
