BEGIN:VCALENDAR
VERSION:2.0
PRODID:-//Plone.org//NONSGML plone.app.event//EN
X-WR-TIMEZONE:America/Sao_Paulo
BEGIN:VEVENT
SUMMARY:Cerimônia de comemoração pelos 18 anos da UFVJM
DTSTART;TZID=America/Sao_Paulo;VALUE=DATE-TIME:20231109T190000
DTSTAMP;VALUE=DATE-TIME:20260423T020204Z
UID:e53d1a52f6f447f08e20cd656d816767@portal.ufvjm.edu.br
CONTACT:https://www.youtube.com/assembleiamg
CREATED;VALUE=DATE-TIME:20231103T131754Z
DESCRIPTION:9 de novembro
LAST-MODIFIED;VALUE=DATE-TIME:20250402T175001Z
LOCATION:Plenário Juscelino Kubitschek - Belo Horizonte/MG
URL:https://portal.ufvjm.edu.br/agendas/eventos/2023/cerimonia-de-comemora
 cao-pelos-18-anos-da-ufvjm
END:VEVENT
BEGIN:VTIMEZONE
TZID:America/Sao_Paulo
X-LIC-LOCATION:America/Sao_Paulo
BEGIN:DAYLIGHT
DTSTART;VALUE=DATE-TIME:20231015T010000
TZNAME:BRST
TZOFFSETFROM:-0300
TZOFFSETTO:-0200
END:DAYLIGHT
END:VTIMEZONE
END:VCALENDAR
