BEGIN:VCALENDAR
VERSION:2.0
PRODID:-//Plone.org//NONSGML plone.app.event//EN
X-WR-TIMEZONE:America/Sao_Paulo
BEGIN:VEVENT
SUMMARY:Café com Libras: Libras por herança
DTSTART;TZID=America/Sao_Paulo;VALUE=DATE-TIME:20230424T190000
DTSTAMP;VALUE=DATE-TIME:20260422T081831Z
UID:1e057a5378304abd986da6e0c23e7393@portal.ufvjm.edu.br
CREATED;VALUE=DATE-TIME:20230420T221458Z
DESCRIPTION:24 de abril
LAST-MODIFIED;VALUE=DATE-TIME:20250402T174902Z
LOCATION:Teatro Municipal Santa Izabel\, Diamantina/MG
URL:https://portal.ufvjm.edu.br/agendas/eventos/2023/cafe-com-libras-libra
 s-por-heranca
END:VEVENT
BEGIN:VTIMEZONE
TZID:America/Sao_Paulo
X-LIC-LOCATION:America/Sao_Paulo
BEGIN:STANDARD
DTSTART;VALUE=DATE-TIME:20230225T230000
TZNAME:BRT
TZOFFSETFROM:-0200
TZOFFSETTO:-0300
END:STANDARD
END:VTIMEZONE
END:VCALENDAR
