BEGIN:VCALENDAR
VERSION:2.0
PRODID:-//Plone.org//NONSGML plone.app.event//EN
X-WR-TIMEZONE:America/Sao_Paulo
BEGIN:VEVENT
SUMMARY:Boas-vindas UFVJM
DTSTART;VALUE=DATE:20230417
DTEND;VALUE=DATE:20230420
DTSTAMP;VALUE=DATE-TIME:20260423T165122Z
UID:5c8149c96b124f6c88f15de89a86888f@portal.ufvjm.edu.br
CONTACT:http://www.ufvjm.edu.br/proexc/noticias/3020-boasvindas2023.html
CREATED;VALUE=DATE-TIME:20230301T143448Z
DESCRIPTION:17 a 19 de abril
LAST-MODIFIED;VALUE=DATE-TIME:20250402T174855Z
LOCATION:Campus JK\, em Diamantina
URL:https://portal.ufvjm.edu.br/agendas/eventos/2023/boas-vindas-ufvjm
END:VEVENT
END:VCALENDAR
