BEGIN:VCALENDAR
VERSION:2.0
PRODID:-//Plone.org//NONSGML plone.app.event//EN
X-WR-TIMEZONE:America/Sao_Paulo
BEGIN:VEVENT
SUMMARY:A conjuntura política e econômica da América Latina e os novos 
 desafios
DTSTART;TZID=America/Sao_Paulo;VALUE=DATE-TIME:20231214T190000
DTSTAMP;VALUE=DATE-TIME:20260423T020622Z
UID:766ae545971246b38a727b1cbedf4a8d@portal.ufvjm.edu.br
CREATED;VALUE=DATE-TIME:20231207T193523Z
DESCRIPTION:14 de dezembro
LAST-MODIFIED;VALUE=DATE-TIME:20250402T175009Z
LOCATION:Auditório do Núcleo Integrado de Pesquisa (Nipe) - Campus do Mu
 curi
URL:https://portal.ufvjm.edu.br/agendas/eventos/2023/a-conjuntura-politica
 -e-economica-da-america-latina-e-os-novos-desafios
END:VEVENT
BEGIN:VTIMEZONE
TZID:America/Sao_Paulo
X-LIC-LOCATION:America/Sao_Paulo
BEGIN:DAYLIGHT
DTSTART;VALUE=DATE-TIME:20231015T010000
TZNAME:BRST
TZOFFSETFROM:-0300
TZOFFSETTO:-0200
END:DAYLIGHT
END:VTIMEZONE
END:VCALENDAR
