BEGIN:VCALENDAR
VERSION:2.0
PRODID:-//Plone.org//NONSGML plone.app.event//EN
X-WR-TIMEZONE:America/Sao_Paulo
BEGIN:VEVENT
SUMMARY:8ª edição do Simpósio Integrado de Administração Pública
DTSTART;VALUE=DATE:20230630
DTEND;VALUE=DATE:20230702
DTSTAMP;VALUE=DATE-TIME:20260422T171939Z
UID:3e781e9c6cb84cd9b86eba10876b0089@portal.ufvjm.edu.br
CONTACT:https://doity.com.br/sintap-2023/inscricao
CREATED;VALUE=DATE-TIME:20230621T221328Z
DESCRIPTION:30 de junho e 1º de julho
LAST-MODIFIED;VALUE=DATE-TIME:20250402T174912Z
LOCATION:Evento on-line
URL:https://portal.ufvjm.edu.br/agendas/eventos/2023/8-edicao-do-simposio-
 integrado-de-administracao-publica
END:VEVENT
END:VCALENDAR
