BEGIN:VCALENDAR
VERSION:2.0
PRODID:-//Plone.org//NONSGML plone.app.event//EN
X-WR-TIMEZONE:America/Sao_Paulo
BEGIN:VEVENT
SUMMARY:7º Simpósio de Produção Animal\, 2º Simpósio do Programa de 
 Pós-Graduação em Zootecnia\, 15ª Semana de Zootecnia
DTSTART;VALUE=DATE:20231122
DTEND;VALUE=DATE:20231125
DTSTAMP;VALUE=DATE-TIME:20260423T061010Z
UID:a99c3ae7a7e644c9aab31c58ebed0bd9@portal.ufvjm.edu.br
CONTACT:https://doity.com.br/viisimpa
CREATED;VALUE=DATE-TIME:20231120T201124Z
DESCRIPTION:22 a 24 de novembro
LAST-MODIFIED;VALUE=DATE-TIME:20250402T175004Z
LOCATION:Auditório do Departamento de Zootecnia - Campus JK
URL:https://portal.ufvjm.edu.br/agendas/eventos/2023/7-simposio-de-produca
 o-animal-2-simposio-do-programa-de-pos-graduacao-em-zootecnia-15-semana-de
 -zootecnia
END:VEVENT
END:VCALENDAR
