BEGIN:VCALENDAR
VERSION:2.0
PRODID:-//Plone.org//NONSGML plone.app.event//EN
X-WR-TIMEZONE:America/Sao_Paulo
BEGIN:VEVENT
SUMMARY:7º Diamantech
DTSTART;VALUE=DATE:20231206
DTEND;VALUE=DATE:20231208
DTSTAMP;VALUE=DATE-TIME:20260423T035240Z
UID:f9131015df0442c3929cf4089ac19fbf@portal.ufvjm.edu.br
CONTACT:https://www.even3.com.br/sintegra2023
CREATED;VALUE=DATE-TIME:20231204T193919Z
DESCRIPTION:6 e 7 de dezembro
LAST-MODIFIED;VALUE=DATE-TIME:20250402T175008Z
LOCATION:Campus JK - Diamantina
URL:https://portal.ufvjm.edu.br/agendas/eventos/2023/7-diamantech
END:VEVENT
END:VCALENDAR
