BEGIN:VCALENDAR
VERSION:2.0
PRODID:-//Plone.org//NONSGML plone.app.event//EN
X-WR-TIMEZONE:America/Sao_Paulo
BEGIN:VEVENT
SUMMARY:6ª Semana da Engenharia do Campus do Mucuri
DTSTART;VALUE=DATE:20230828
DTEND;VALUE=DATE:20230902
DTSTAMP;VALUE=DATE-TIME:20260423T005022Z
UID:6265fb1a157849d593dc49b25fbeb360@portal.ufvjm.edu.br
CONTACT:https://www.even3.com.br/sengen2023/
CREATED;VALUE=DATE-TIME:20230810T114813Z
DESCRIPTION:28 de agosto a 1º de setembro
LAST-MODIFIED;VALUE=DATE-TIME:20250402T174926Z
LOCATION:Campus do Mucuri - Teófilo Otoni/MG
URL:https://portal.ufvjm.edu.br/agendas/eventos/2023/6-semana-da-engenhari
 a-do-campus-do-mucuri
END:VEVENT
END:VCALENDAR
