BEGIN:VCALENDAR
VERSION:2.0
PRODID:-//Plone.org//NONSGML plone.app.event//EN
X-WR-TIMEZONE:America/Sao_Paulo
BEGIN:VEVENT
SUMMARY:5ª Primavera das Letras
DTSTART;VALUE=DATE:20231123
DTEND;VALUE=DATE:20231125
DTSTAMP;VALUE=DATE-TIME:20260423T020104Z
UID:814d493c668044df87c22af0aaed058f@portal.ufvjm.edu.br
CONTACT:https://www.even3.com.br/v-primavera-das-letras-397125/
CREATED;VALUE=DATE-TIME:20231101T141634Z
DESCRIPTION:23 e 24 de novembro
LAST-MODIFIED;VALUE=DATE-TIME:20250402T175000Z
LOCATION:Centro de Estudos em Humanidades (CEH) - Campus JK
URL:https://portal.ufvjm.edu.br/agendas/eventos/2023/5-primavera-das-letra
 s
END:VEVENT
END:VCALENDAR
