BEGIN:VCALENDAR
VERSION:2.0
PRODID:-//Plone.org//NONSGML plone.app.event//EN
X-WR-TIMEZONE:America/Sao_Paulo
BEGIN:VEVENT
SUMMARY:4º Congresso Brasileiro Interdisciplinar em Ciência e Tecnologia
DTSTART;VALUE=DATE:20230828
DTEND;VALUE=DATE:20230902
DTSTAMP;VALUE=DATE-TIME:20260423T151107Z
UID:86a03b0b47ae4a879d4a389c989e5186@portal.ufvjm.edu.br
CONTACT:https://www.even3.com.br/cobicet2023/
CREATED;VALUE=DATE-TIME:20230426T212022Z
DESCRIPTION:28 de agosto a 1º de setembro
LAST-MODIFIED;VALUE=DATE-TIME:20250402T174903Z
LOCATION:Evento on-line
URL:https://portal.ufvjm.edu.br/agendas/eventos/2023/4-congresso-brasileir
 o-interdisciplinar-em-ciencia-e-tecnologia
END:VEVENT
END:VCALENDAR
